BEGIN:VCALENDAR
VERSION:2.0
PRODID:-//The Comparison Project - ECPv6.15.17.1//NONSGML v1.0//EN
CALSCALE:GREGORIAN
METHOD:PUBLISH
X-WR-CALNAME:The Comparison Project
X-ORIGINAL-URL:https://comparisonproject.wp.drake.edu
X-WR-CALDESC:Events for The Comparison Project
REFRESH-INTERVAL;VALUE=DURATION:PT1H
X-Robots-Tag:noindex
X-PUBLISHED-TTL:PT1H
BEGIN:VTIMEZONE
TZID:America/Chicago
BEGIN:DAYLIGHT
TZOFFSETFROM:-0600
TZOFFSETTO:-0500
TZNAME:CDT
DTSTART:20240310T080000
END:DAYLIGHT
BEGIN:STANDARD
TZOFFSETFROM:-0500
TZOFFSETTO:-0600
TZNAME:CST
DTSTART:20241103T070000
END:STANDARD
BEGIN:DAYLIGHT
TZOFFSETFROM:-0600
TZOFFSETTO:-0500
TZNAME:CDT
DTSTART:20250309T080000
END:DAYLIGHT
BEGIN:STANDARD
TZOFFSETFROM:-0500
TZOFFSETTO:-0600
TZNAME:CST
DTSTART:20251102T070000
END:STANDARD
BEGIN:DAYLIGHT
TZOFFSETFROM:-0600
TZOFFSETTO:-0500
TZNAME:CDT
DTSTART:20260308T080000
END:DAYLIGHT
BEGIN:STANDARD
TZOFFSETFROM:-0500
TZOFFSETTO:-0600
TZNAME:CST
DTSTART:20261101T070000
END:STANDARD
END:VTIMEZONE
BEGIN:VEVENT
DTSTART;TZID=America/Chicago:20251206T090000
DTEND;TZID=America/Chicago:20251206T120000
DTSTAMP:20260421T163918
CREATED:20250621T200428Z
LAST-MODIFIED:20250821T201530Z
UID:13363-1765011600-1765022400@comparisonproject.wp.drake.edu
SUMMARY:Meet My Religious Neighbor: Meditation Workshop and Dialogue
DESCRIPTION:On Saturday\, December 6\, from 9:00 am – 12:00 pm\, The Comparison Project hosts a “Meditation Workshop and Dialogue” in Meredith Hall on Drake’s campus. The event\, which is free and open to the pubic\, features meditation instructors representing different religious and spiritual traditions and techniques. Light breakfast fare will be available.
URL:https://comparisonproject.wp.drake.edu/event/meet-my-religious-neighbor-meditation-workshop-and-dialogue/
LOCATION:Drake University (Meredith Hall)\, 2805 University Ave\, Des Moines\, IA\, 50311\, United States
ORGANIZER;CN="The Comparison Project":MAILTO:comparisonproject@drake.edu
END:VEVENT
END:VCALENDAR