BEGIN:VCALENDAR
VERSION:2.0
PRODID:-//The Comparison Project - ECPv6.15.17.1//NONSGML v1.0//EN
CALSCALE:GREGORIAN
METHOD:PUBLISH
X-ORIGINAL-URL:https://comparisonproject.wp.drake.edu
X-WR-CALDESC:Events for The Comparison Project
REFRESH-INTERVAL;VALUE=DURATION:PT1H
X-Robots-Tag:noindex
X-PUBLISHED-TTL:PT1H
BEGIN:VTIMEZONE
TZID:America/Chicago
BEGIN:DAYLIGHT
TZOFFSETFROM:-0600
TZOFFSETTO:-0500
TZNAME:CDT
DTSTART:20250309T080000
END:DAYLIGHT
BEGIN:STANDARD
TZOFFSETFROM:-0500
TZOFFSETTO:-0600
TZNAME:CST
DTSTART:20251102T070000
END:STANDARD
BEGIN:DAYLIGHT
TZOFFSETFROM:-0600
TZOFFSETTO:-0500
TZNAME:CDT
DTSTART:20260308T080000
END:DAYLIGHT
BEGIN:STANDARD
TZOFFSETFROM:-0500
TZOFFSETTO:-0600
TZNAME:CST
DTSTART:20261101T070000
END:STANDARD
BEGIN:DAYLIGHT
TZOFFSETFROM:-0600
TZOFFSETTO:-0500
TZNAME:CDT
DTSTART:20270314T080000
END:DAYLIGHT
BEGIN:STANDARD
TZOFFSETFROM:-0500
TZOFFSETTO:-0600
TZNAME:CST
DTSTART:20271107T070000
END:STANDARD
END:VTIMEZONE
BEGIN:VEVENT
DTSTART;TZID=America/Chicago:20260326T180000
DTEND;TZID=America/Chicago:20260326T193000
DTSTAMP:20260421T125339
CREATED:20250618T172912Z
LAST-MODIFIED:20250618T172912Z
UID:13266-1774548000-1774553400@comparisonproject.wp.drake.edu
SUMMARY:Helen Lee Turner\, "Disability and Personhood among the Navajo People"
DESCRIPTION:On Thursday\, March 26 at 6:00 pm in the Harkin Institute (2800 University Ave)\, Dr. Helen Lee Turner\, Professor of Religion at Furman University\, will lecture on “Disability and Personhood among the Navajo People.”
URL:https://comparisonproject.wp.drake.edu/event/helen-lee-turner-disability-and-personhood-among-the-navajo-people/
LOCATION:Harkin Institute\, 2800 University Avenue\, Des Moines\, 50311\, United States
ORGANIZER;CN="The Comparison Project":MAILTO:comparisonproject@drake.edu
END:VEVENT
END:VCALENDAR