BEGIN:VCALENDAR
VERSION:2.0
PRODID:-//The Comparison Project - ECPv6.15.17.1//NONSGML v1.0//EN
CALSCALE:GREGORIAN
METHOD:PUBLISH
X-ORIGINAL-URL:https://comparisonproject.wp.drake.edu
X-WR-CALDESC:Events for The Comparison Project
REFRESH-INTERVAL;VALUE=DURATION:PT1H
X-Robots-Tag:noindex
X-PUBLISHED-TTL:PT1H
BEGIN:VTIMEZONE
TZID:America/Chicago
BEGIN:DAYLIGHT
TZOFFSETFROM:-0600
TZOFFSETTO:-0500
TZNAME:CDT
DTSTART:20250309T080000
END:DAYLIGHT
BEGIN:STANDARD
TZOFFSETFROM:-0500
TZOFFSETTO:-0600
TZNAME:CST
DTSTART:20251102T070000
END:STANDARD
BEGIN:DAYLIGHT
TZOFFSETFROM:-0600
TZOFFSETTO:-0500
TZNAME:CDT
DTSTART:20260308T080000
END:DAYLIGHT
BEGIN:STANDARD
TZOFFSETFROM:-0500
TZOFFSETTO:-0600
TZNAME:CST
DTSTART:20261101T070000
END:STANDARD
BEGIN:DAYLIGHT
TZOFFSETFROM:-0600
TZOFFSETTO:-0500
TZNAME:CDT
DTSTART:20270314T080000
END:DAYLIGHT
BEGIN:STANDARD
TZOFFSETFROM:-0500
TZOFFSETTO:-0600
TZNAME:CST
DTSTART:20271107T070000
END:STANDARD
END:VTIMEZONE
BEGIN:VEVENT
DTSTART;TZID=America/Chicago:20260226T180000
DTEND;TZID=America/Chicago:20260226T193000
DTSTAMP:20260421T175335
CREATED:20250618T172741Z
LAST-MODIFIED:20260203T184405Z
UID:13264-1772128800-1772134200@comparisonproject.wp.drake.edu
SUMMARY:Baolin Wu\, "Reverence\, Humility\, and Friendship: On Confucius’s Interactive Interpretation of Disability Care"
DESCRIPTION:On Thursday\, February 26\, at 6:00 pm in the Harkin Institute (2800 University Ave)\, Dr. Baolin Wu\, Assistant Professor of Religion at Minzu University of China\, will lecture on “Reverence\, Humility\, and Friendship: On Confucius’s Interactive Interpretation of Disability Care.”
URL:https://comparisonproject.wp.drake.edu/event/baolin-wu-disability-care-in-early-confucianism-perspectives-on-mutual-interaction/
LOCATION:Harkin Institute\, 2800 University Avenue\, Des Moines\, 50311\, United States
ORGANIZER;CN="The Comparison Project":MAILTO:comparisonproject@drake.edu
END:VEVENT
BEGIN:VEVENT
DTSTART;TZID=America/Chicago:20260228T174500
DTEND;TZID=America/Chicago:20260228T190000
DTSTAMP:20260421T175335
CREATED:20260122T183723Z
LAST-MODIFIED:20260122T183723Z
UID:13882-1772300700-1772305200@comparisonproject.wp.drake.edu
SUMMARY:Ramadan Prayer and Iftar Meal
DESCRIPTION:On Saturday\, February 28 from 5:45–7:00 pm\, we will attend a Ramadan prayer and iftar meal” at Ezan Islamic and Cultural Center\, the Bosnian Islamic mosque at 6206 Douglas Ave in Des Moines. The event includes the sunset (maghrib) prayer\, the breaking of the fast\, and an iftar meal.\n\n \n\nPlease dress appropriately: women should be covered below the elbows and knees and should cover their head/hair with a scarf. Men should wear long pants.
URL:https://comparisonproject.wp.drake.edu/event/ramadan-prayer-and-iftar-meal-2/
LOCATION:Ezan: Islamic and Education Center\, 6206 Douglas Ave\, Des Moines\, 50322\, United States
ORGANIZER;CN="The Comparison Project":MAILTO:comparisonproject@drake.edu
END:VEVENT
BEGIN:VEVENT
DTSTART;TZID=America/Chicago:20260308T110000
DTEND;TZID=America/Chicago:20260308T150000
DTSTAMP:20260421T175335
CREATED:20260122T183940Z
LAST-MODIFIED:20260306T014819Z
UID:13885-1772967600-1772982000@comparisonproject.wp.drake.edu
SUMMARY:Holi Service and Celebration
DESCRIPTION:On Sunday\, March 8 from 11:00am–3:00pm (roughly)\, we will join the Hindu Temple and Cultural Center (33916 155th Lane\, Madrid) in the annual celebration of Holi. Guests will be able to tour the temple\, observe the Holi fire ritual (Holika Dahan)\, throw colored powered at one another\, and dance. \nHere is the updated schedule (as of 3/5):  \n* 11:00 AM – Noon: Pooja & Holika Dahan* Noon – 1:00 PM: Lunch* 1:00 PM – 3:00 PM: Colors & DJ Raj\n \n\n\n\nPlease dress accordingly if you are going to participate in the throwing of colors. \n\n\n\nLunch is available for purchase from the temple. \n\n\n\nThis event is part of the “Meet My Religious Neighbor” series\, which is co-programmed with CultureALL\, the Des Moines Area Religious Council\, and Interfaith Alliance of Iowa.
URL:https://comparisonproject.wp.drake.edu/event/holi-service-and-celebration-2/
LOCATION:Hindu Temple and Cultural Center of Iowa\, 33916 155th Ln\, Madrid\, IA\, 50156\, United States
ORGANIZER;CN="The Comparison Project":MAILTO:comparisonproject@drake.edu
END:VEVENT
BEGIN:VEVENT
DTSTART;TZID=America/Chicago:20260326T180000
DTEND;TZID=America/Chicago:20260326T193000
DTSTAMP:20260421T175335
CREATED:20250618T172912Z
LAST-MODIFIED:20250618T172912Z
UID:13266-1774548000-1774553400@comparisonproject.wp.drake.edu
SUMMARY:Helen Lee Turner\, "Disability and Personhood among the Navajo People"
DESCRIPTION:On Thursday\, March 26 at 6:00 pm in the Harkin Institute (2800 University Ave)\, Dr. Helen Lee Turner\, Professor of Religion at Furman University\, will lecture on “Disability and Personhood among the Navajo People.”
URL:https://comparisonproject.wp.drake.edu/event/helen-lee-turner-disability-and-personhood-among-the-navajo-people/
LOCATION:Harkin Institute\, 2800 University Avenue\, Des Moines\, 50311\, United States
ORGANIZER;CN="The Comparison Project":MAILTO:comparisonproject@drake.edu
END:VEVENT
BEGIN:VEVENT
DTSTART;TZID=America/Chicago:20260409T180000
DTEND;TZID=America/Chicago:20260409T193000
DTSTAMP:20260421T175335
CREATED:20250618T173325Z
LAST-MODIFIED:20250618T173334Z
UID:13268-1775757600-1775763000@comparisonproject.wp.drake.edu
SUMMARY:Sarah Jean Barton\, “'The Work of the People': Disability and Participation in the Christian Tradition"
DESCRIPTION:On Thursday\, April 9 at 6:00 pm in the Harkin Institute (2800 University Ave)\, Dr. Sarah Jean Barton\, Assistant Professor of Occupational Therapy and Theological Ethics at Duke University\, will lecture on “’The Work of the People’: Disability and Participation in the Christian Tradition.”
URL:https://comparisonproject.wp.drake.edu/event/sarah-jean-barton-the-work-of-the-people-disability-and-participation-in-the-christian-tradition/
LOCATION:Harkin Institute\, 2800 University Avenue\, Des Moines\, 50311\, United States
ORGANIZER;CN="The Comparison Project":MAILTO:comparisonproject@drake.edu
END:VEVENT
BEGIN:VEVENT
DTSTART;TZID=America/Chicago:20260419T120000
DTEND;TZID=America/Chicago:20260419T140000
DTSTAMP:20260421T175335
CREATED:20260122T184134Z
LAST-MODIFIED:20260122T184134Z
UID:13888-1776600000-1776607200@comparisonproject.wp.drake.edu
SUMMARY:Vaisakhi Service and Celebration
DESCRIPTION:On Sunday\, April 19\, we will celebrate the annual holiday of Vaisakhi from roughly 12:00 to 2:00 pm with the Sikh gurdwara in West Des Moines\, the Iowa Sikh Association (1115 Walnut St.).\n\n \n\nThe service will include many of the elements of a typical Sunday worship service: the signing of hymns (kirtan)\, reading from sacred scripture (Guru Granth Sahib)\, community prayers (aardas)\, and the sharing of the sacred sacrament (karah prashad\, the so-called “holy pudding”)\, after which a free vegetarian meal will be served (langar). Dress modestly\, remove shoes at door\, and don a head scarf (available at the door for both women and men). Also\, refrain from pointing outstretched legs toward the holy book/altar.\n\n \n\nThis event is part of the “Meet My Religious Neighbor” series\, which is co-programmed with CultureALL\, the Des Moines Area Religious Council\, and Interfaith Alliance of Iowa.
URL:https://comparisonproject.wp.drake.edu/event/vaisakhi-service-and-celebration-2/
LOCATION:Iowa Sikh Association\, 1115 Walnut Street\, West Des Moines\, Iowa\, 50265\, United States
ORGANIZER;CN="The Comparison Project":MAILTO:comparisonproject@drake.edu
END:VEVENT
END:VCALENDAR